Package: ReactomeGraph4R Version: 1.15.0 Command: /Library/Frameworks/R.framework/Resources/bin/R CMD check --install=check:ReactomeGraph4R.install-out.txt --library=/Library/Frameworks/R.framework/Resources/library --no-vignettes --timings ReactomeGraph4R_1.15.0.tar.gz StartedAt: 2025-02-09 20:53:27 -0500 (Sun, 09 Feb 2025) EndedAt: 2025-02-09 20:53:44 -0500 (Sun, 09 Feb 2025) EllapsedTime: 17.4 seconds RetCode: 0 Status: OK CheckDir: ReactomeGraph4R.Rcheck Warnings: 0