Package: ReactomeGraph4R Version: 1.15.0 Command: /home/biocbuild/R/R/bin/R CMD build --keep-empty-dirs --no-resave-data ReactomeGraph4R StartedAt: 2025-01-29 01:34:21 -0000 (Wed, 29 Jan 2025) EndedAt: 2025-01-29 01:34:39 -0000 (Wed, 29 Jan 2025) EllapsedTime: 18.0 seconds RetCode: 0 Status: OK PackageFile: ReactomeGraph4R_1.15.0.tar.gz PackageFileSize: 1.108 MiB