Package: ReactomeGraph4R Version: 1.15.0 Command: /home/biocbuild/bbs-3.21-bioc/R/bin/R CMD build --keep-empty-dirs --no-resave-data ReactomeGraph4R StartedAt: 2025-02-09 18:52:02 -0500 (Sun, 09 Feb 2025) EndedAt: 2025-02-09 18:52:14 -0500 (Sun, 09 Feb 2025) EllapsedTime: 12.0 seconds RetCode: 0 Status: OK PackageFile: ReactomeGraph4R_1.15.0.tar.gz PackageFileSize: 942.3 KiB