Package: ReactomeGraph4R Version: 1.15.0 Command: /home/biocbuild/bbs-3.21-bioc/R/bin/R CMD check --install=check:ReactomeGraph4R.install-out.txt --library=/home/biocbuild/bbs-3.21-bioc/R/site-library --timings ReactomeGraph4R_1.15.0.tar.gz StartedAt: 2025-02-04 01:52:41 -0500 (Tue, 04 Feb 2025) EndedAt: 2025-02-04 01:53:19 -0500 (Tue, 04 Feb 2025) EllapsedTime: 38.1 seconds RetCode: 0 Status: OK CheckDir: ReactomeGraph4R.Rcheck Warnings: 0