Package: ReactomeGraph4R Version: 1.15.0 Command: rm -rf ReactomeGraph4R.buildbin-libdir && mkdir ReactomeGraph4R.buildbin-libdir && E:\biocbuild\bbs-3.21-bioc\R\bin\R.exe CMD INSTALL --build --library=ReactomeGraph4R.buildbin-libdir ReactomeGraph4R_1.15.0.tar.gz StartedAt: 2025-02-10 08:30:39 -0500 (Mon, 10 Feb 2025) EndedAt: 2025-02-10 08:31:20 -0500 (Mon, 10 Feb 2025) EllapsedTime: 40.3 seconds RetCode: 0 Status: OK PackageFile: ReactomeGraph4R_1.15.0.zip PackageFileSize: 877.5 KiB