Package: ReactomeGraph4R Version: 1.15.0 Command: E:\biocbuild\bbs-3.21-bioc\R\bin\R.exe CMD check --no-multiarch --install=check:ReactomeGraph4R.install-out.txt --library=E:\biocbuild\bbs-3.21-bioc\R\library --no-vignettes --timings ReactomeGraph4R_1.15.0.tar.gz StartedAt: 2025-02-05 04:58:44 -0500 (Wed, 05 Feb 2025) EndedAt: 2025-02-05 04:59:41 -0500 (Wed, 05 Feb 2025) EllapsedTime: 57.5 seconds RetCode: 0 Status: OK CheckDir: ReactomeGraph4R.Rcheck Warnings: 0