Package: ReadqPCR Version: 1.53.0 Command: rm -rf ReadqPCR.buildbin-libdir && mkdir ReadqPCR.buildbin-libdir && /Users/biocbuild/BBS/utils/build-universal.sh ReadqPCR_1.53.0.tar.gz /Library/Frameworks/R.framework/Resources/bin/R ReadqPCR.buildbin-libdir StartedAt: 2025-02-09 22:26:58 -0500 (Sun, 09 Feb 2025) EndedAt: 2025-02-09 22:27:00 -0500 (Sun, 09 Feb 2025) EllapsedTime: 2.1 seconds RetCode: 0 Status: OK PackageFile: ReadqPCR_1.53.0.tgz PackageFileSize: 568.7 KiB