Package: ReadqPCR Version: 1.53.0 Command: /Library/Frameworks/R.framework/Resources/bin/R CMD check --install=check:ReadqPCR.install-out.txt --library=/Library/Frameworks/R.framework/Resources/library --no-vignettes --timings ReadqPCR_1.53.0.tar.gz StartedAt: 2025-02-09 20:53:33 -0500 (Sun, 09 Feb 2025) EndedAt: 2025-02-09 20:53:47 -0500 (Sun, 09 Feb 2025) EllapsedTime: 14.3 seconds RetCode: 0 Status: OK CheckDir: ReadqPCR.Rcheck Warnings: 0