Package: ReadqPCR Version: 1.53.0 Command: /Library/Frameworks/R.framework/Resources/bin/R CMD INSTALL ReadqPCR StartedAt: 2025-02-09 15:01:55 -0500 (Sun, 09 Feb 2025) EndedAt: 2025-02-09 15:02:01 -0500 (Sun, 09 Feb 2025) EllapsedTime: 6.3 seconds RetCode: 0 Status: OK