Package: ReadqPCR Version: 1.53.0 Command: rm -rf ReadqPCR.buildbin-libdir && mkdir ReadqPCR.buildbin-libdir && /Users/biocbuild/BBS/utils/build-universal.sh ReadqPCR_1.53.0.tar.gz /Library/Frameworks/R.framework/Resources/bin/R ReadqPCR.buildbin-libdir StartedAt: 2025-02-13 00:53:27 -0500 (Thu, 13 Feb 2025) EndedAt: 2025-02-13 00:53:34 -0500 (Thu, 13 Feb 2025) EllapsedTime: 7.0 seconds RetCode: 0 Status: OK PackageFile: ReadqPCR_1.53.0.tgz PackageFileSize: 567.6 KiB