Package: RedisParam Version: 1.9.0 Command: /Library/Frameworks/R.framework/Resources/bin/R CMD build --keep-empty-dirs --no-resave-data RedisParam StartedAt: 2025-02-04 17:22:32 -0500 (Tue, 04 Feb 2025) EndedAt: 2025-02-04 17:22:36 -0500 (Tue, 04 Feb 2025) EllapsedTime: 4.1 seconds RetCode: 0 Status: OK PackageFile: RedisParam_1.9.0.tar.gz PackageFileSize: 950.5 KiB