Package: RedisParam Version: 1.9.0 Command: /Library/Frameworks/R.framework/Resources/bin/R CMD check --install=check:RedisParam.install-out.txt --library=/Library/Frameworks/R.framework/Resources/library --no-vignettes --timings RedisParam_1.9.0.tar.gz StartedAt: 2025-02-04 20:56:12 -0500 (Tue, 04 Feb 2025) EndedAt: 2025-02-04 20:56:25 -0500 (Tue, 04 Feb 2025) EllapsedTime: 13.2 seconds RetCode: 0 Status: OK CheckDir: RedisParam.Rcheck Warnings: 0