Package: RedisParam Version: 1.9.0 Command: /Library/Frameworks/R.framework/Resources/bin/R CMD INSTALL RedisParam StartedAt: 2025-02-09 15:14:27 -0500 (Sun, 09 Feb 2025) EndedAt: 2025-02-09 15:14:29 -0500 (Sun, 09 Feb 2025) EllapsedTime: 2.1 seconds RetCode: 0 Status: OK