Package: RedisParam Version: 1.9.0 Command: /home/biocbuild/R/R/bin/R CMD check --install=check:RedisParam.install-out.txt --library=/home/biocbuild/R/R/site-library --no-vignettes --timings RedisParam_1.9.0.tar.gz StartedAt: 2024-12-13 12:48:12 -0000 (Fri, 13 Dec 2024) EndedAt: 2024-12-13 12:48:38 -0000 (Fri, 13 Dec 2024) EllapsedTime: 26.1 seconds RetCode: 0 Status: OK CheckDir: RedisParam.Rcheck Warnings: 0