Package: RedisParam Version: 1.9.0 Command: rm -rf RedisParam.buildbin-libdir && mkdir RedisParam.buildbin-libdir && /Users/biocbuild/BBS/utils/build-universal.sh RedisParam_1.9.0.tar.gz /Library/Frameworks/R.framework/Resources/bin/R RedisParam.buildbin-libdir StartedAt: 2025-02-05 00:57:11 -0500 (Wed, 05 Feb 2025) EndedAt: 2025-02-05 00:57:19 -0500 (Wed, 05 Feb 2025) EllapsedTime: 8.2 seconds RetCode: 0 Status: OK PackageFile: RedisParam_1.9.0.tgz PackageFileSize: 1.001 MiB