Package: RedisParam Version: 1.9.0 Command: /home/biocbuild/bbs-3.21-bioc/R/bin/R CMD INSTALL RedisParam StartedAt: 2025-02-09 15:10:56 -0500 (Sun, 09 Feb 2025) EndedAt: 2025-02-09 15:11:08 -0500 (Sun, 09 Feb 2025) EllapsedTime: 12.0 seconds RetCode: 0 Status: OK