Package: RedisParam Version: 1.9.0 Command: rm -rf RedisParam.buildbin-libdir && mkdir RedisParam.buildbin-libdir && E:\biocbuild\bbs-3.21-bioc\R\bin\R.exe CMD INSTALL --build --library=RedisParam.buildbin-libdir RedisParam_1.9.0.tar.gz StartedAt: 2025-02-10 08:31:19 -0500 (Mon, 10 Feb 2025) EndedAt: 2025-02-10 08:31:58 -0500 (Mon, 10 Feb 2025) EllapsedTime: 39.2 seconds RetCode: 0 Status: OK PackageFile: RedisParam_1.9.0.zip PackageFileSize: 1023 KiB