Package: ReducedExperiment Version: 0.99.6 Command: rm -rf ReducedExperiment.buildbin-libdir && mkdir ReducedExperiment.buildbin-libdir && /Users/biocbuild/BBS/utils/build-universal.sh ReducedExperiment_0.99.6.tar.gz /Library/Frameworks/R.framework/Resources/bin/R ReducedExperiment.buildbin-libdir StartedAt: 2025-02-09 22:27:02 -0500 (Sun, 09 Feb 2025) EndedAt: 2025-02-09 22:27:18 -0500 (Sun, 09 Feb 2025) EllapsedTime: 16.3 seconds RetCode: 0 Status: OK PackageFile: ReducedExperiment_0.99.6.tgz PackageFileSize: 3.677 MiB