Package: ReducedExperiment Version: 0.99.6 Command: /Library/Frameworks/R.framework/Resources/bin/R CMD build --keep-empty-dirs --no-resave-data ReducedExperiment StartedAt: 2025-02-09 17:22:21 -0500 (Sun, 09 Feb 2025) EndedAt: 2025-02-09 17:23:11 -0500 (Sun, 09 Feb 2025) EllapsedTime: 49.6 seconds RetCode: 0 Status: OK PackageFile: ReducedExperiment_0.99.6.tar.gz PackageFileSize: 2.906 MiB