Package: ReducedExperiment Version: 0.99.6 Command: /home/biocbuild/R/R/bin/R CMD check --install=check:ReducedExperiment.install-out.txt --library=/home/biocbuild/R/R/site-library --no-vignettes --timings ReducedExperiment_0.99.6.tar.gz StartedAt: 2025-01-28 14:25:11 -0000 (Tue, 28 Jan 2025) EndedAt: 2025-01-28 14:33:43 -0000 (Tue, 28 Jan 2025) EllapsedTime: 511.6 seconds RetCode: 0 Status: WARNINGS CheckDir: ReducedExperiment.Rcheck Warnings: 5