Package: ReducedExperiment Version: 0.99.6 Command: /home/biocbuild/R/R/bin/R CMD INSTALL ReducedExperiment StartedAt: 2025-01-29 20:18:56 -0000 (Wed, 29 Jan 2025) EndedAt: 2025-01-29 20:19:45 -0000 (Wed, 29 Jan 2025) EllapsedTime: 49.4 seconds RetCode: 0 Status: OK