Package: ReducedExperiment Version: 0.99.6 Command: rm -rf ReducedExperiment.buildbin-libdir && mkdir ReducedExperiment.buildbin-libdir && /Users/biocbuild/BBS/utils/build-universal.sh ReducedExperiment_0.99.6.tar.gz /Library/Frameworks/R.framework/Resources/bin/R ReducedExperiment.buildbin-libdir StartedAt: 2025-02-10 01:11:14 -0500 (Mon, 10 Feb 2025) EndedAt: 2025-02-10 01:12:05 -0500 (Mon, 10 Feb 2025) EllapsedTime: 50.6 seconds RetCode: 0 Status: OK PackageFile: ReducedExperiment_0.99.6.tgz PackageFileSize: 3.674 MiB