Package: ReducedExperiment Version: 0.99.6 Command: /Library/Frameworks/R.framework/Resources/bin/R CMD check --install=check:ReducedExperiment.install-out.txt --library=/Library/Frameworks/R.framework/Resources/library --no-vignettes --timings ReducedExperiment_0.99.6.tar.gz StartedAt: 2025-02-09 23:01:58 -0500 (Sun, 09 Feb 2025) EndedAt: 2025-02-09 23:09:17 -0500 (Sun, 09 Feb 2025) EllapsedTime: 439.1 seconds RetCode: 0 Status: OK CheckDir: ReducedExperiment.Rcheck Warnings: 0