Package: ReducedExperiment Version: 0.99.6 Command: /Library/Frameworks/R.framework/Resources/bin/R CMD INSTALL ReducedExperiment StartedAt: 2025-02-09 15:34:20 -0500 (Sun, 09 Feb 2025) EndedAt: 2025-02-09 15:35:07 -0500 (Sun, 09 Feb 2025) EllapsedTime: 46.8 seconds RetCode: 0 Status: OK