Package: ReducedExperiment Version: 0.99.6 Command: /home/biocbuild/bbs-3.21-bioc/R/bin/R CMD build --keep-empty-dirs --no-resave-data ReducedExperiment StartedAt: 2025-02-04 18:50:18 -0500 (Tue, 04 Feb 2025) EndedAt: 2025-02-04 18:52:10 -0500 (Tue, 04 Feb 2025) EllapsedTime: 112.1 seconds RetCode: 0 Status: OK PackageFile: ReducedExperiment_0.99.6.tar.gz PackageFileSize: 3.276 MiB