Package: ReducedExperiment Version: 0.99.6 Command: rm -rf ReducedExperiment.buildbin-libdir && mkdir ReducedExperiment.buildbin-libdir && E:\biocbuild\bbs-3.21-bioc\R\bin\R.exe CMD INSTALL --build --library=ReducedExperiment.buildbin-libdir ReducedExperiment_0.99.6.tar.gz StartedAt: 2025-02-10 08:31:23 -0500 (Mon, 10 Feb 2025) EndedAt: 2025-02-10 08:34:47 -0500 (Mon, 10 Feb 2025) EllapsedTime: 203.3 seconds RetCode: 0 Status: OK PackageFile: ReducedExperiment_0.99.6.zip PackageFileSize: 2.487 MiB