Package: ReducedExperiment Version: 0.99.6 Command: chmod a+r ReducedExperiment -R && E:\biocbuild\bbs-3.21-bioc\R\bin\R.exe CMD build --keep-empty-dirs --no-resave-data ReducedExperiment StartedAt: 2025-02-09 21:06:09 -0500 (Sun, 09 Feb 2025) EndedAt: 2025-02-09 21:09:57 -0500 (Sun, 09 Feb 2025) EllapsedTime: 228.5 seconds RetCode: 0 Status: OK PackageFile: ReducedExperiment_0.99.6.tar.gz PackageFileSize: 1.723 MiB