Package: ReducedExperiment Version: 0.99.6 Command: E:\biocbuild\bbs-3.21-bioc\R\bin\R.exe CMD check --no-multiarch --install=check:ReducedExperiment.install-out.txt --library=E:\biocbuild\bbs-3.21-bioc\R\library --no-vignettes --timings ReducedExperiment_0.99.6.tar.gz StartedAt: 2025-02-10 04:35:42 -0500 (Mon, 10 Feb 2025) EndedAt: 2025-02-10 04:43:05 -0500 (Mon, 10 Feb 2025) EllapsedTime: 443.7 seconds RetCode: 0 Status: OK CheckDir: ReducedExperiment.Rcheck Warnings: 0