Package: RegionalST Version: 1.5.8 Maintainer: Ziyi Li MaintainerEmail: zli16 at mdanderson.org git_url: https://git.bioconductor.org/packages/RegionalST git_branch: devel git_last_commit: 0ddee1b git_last_commit_date: 2024-12-05 13:00:47 -0500 (Thu, 05 Dec 2024)