Package: RegionalST Version: 1.5.8 Command: /Library/Frameworks/R.framework/Resources/bin/R CMD check --install=check:RegionalST.install-out.txt --library=/Library/Frameworks/R.framework/Resources/library --no-vignettes --timings RegionalST_1.5.8.tar.gz StartedAt: 2025-02-09 20:54:47 -0500 (Sun, 09 Feb 2025) EndedAt: 2025-02-09 20:56:26 -0500 (Sun, 09 Feb 2025) EllapsedTime: 99.1 seconds RetCode: 0 Status: OK CheckDir: RegionalST.Rcheck Warnings: 0