Package: RegionalST Version: 1.5.8 Command: rm -rf RegionalST.buildbin-libdir && mkdir RegionalST.buildbin-libdir && /Users/biocbuild/BBS/utils/build-universal.sh RegionalST_1.5.8.tar.gz /Library/Frameworks/R.framework/Resources/bin/R RegionalST.buildbin-libdir StartedAt: 2025-02-10 01:11:14 -0500 (Mon, 10 Feb 2025) EndedAt: 2025-02-10 01:11:56 -0500 (Mon, 10 Feb 2025) EllapsedTime: 41.3 seconds RetCode: 0 Status: OK PackageFile: RegionalST_1.5.8.tgz PackageFileSize: 3.981 MiB