Package: RegionalST Version: 1.5.8 Command: /home/biocbuild/bbs-3.21-bioc/R/bin/R CMD check --install=check:RegionalST.install-out.txt --library=/home/biocbuild/bbs-3.21-bioc/R/site-library --timings RegionalST_1.5.8.tar.gz StartedAt: 2025-02-10 01:48:32 -0500 (Mon, 10 Feb 2025) EndedAt: 2025-02-10 01:54:15 -0500 (Mon, 10 Feb 2025) EllapsedTime: 342.5 seconds RetCode: 0 Status: OK CheckDir: RegionalST.Rcheck Warnings: 0