Package: RegionalST Version: 1.5.8 Command: rm -rf RegionalST.buildbin-libdir && mkdir RegionalST.buildbin-libdir && E:\biocbuild\bbs-3.21-bioc\R\bin\R.exe CMD INSTALL --build --library=RegionalST.buildbin-libdir RegionalST_1.5.8.tar.gz StartedAt: 2025-02-10 08:31:29 -0500 (Mon, 10 Feb 2025) EndedAt: 2025-02-10 08:32:11 -0500 (Mon, 10 Feb 2025) EllapsedTime: 42.5 seconds RetCode: 0 Status: OK PackageFile: RegionalST_1.5.8.zip PackageFileSize: 2.02 MiB