Package: RepViz Version: 1.23.0 Command: /Library/Frameworks/R.framework/Resources/bin/R CMD build --keep-empty-dirs --no-resave-data RepViz StartedAt: 2025-02-04 17:23:22 -0500 (Tue, 04 Feb 2025) EndedAt: 2025-02-04 17:23:36 -0500 (Tue, 04 Feb 2025) EllapsedTime: 14.2 seconds RetCode: 0 Status: OK PackageFile: RepViz_1.23.0.tar.gz PackageFileSize: 274.1 KiB