Package: RepViz Version: 1.23.0 Command: rm -rf RepViz.buildbin-libdir && mkdir RepViz.buildbin-libdir && /Users/biocbuild/BBS/utils/build-universal.sh RepViz_1.23.0.tar.gz /Library/Frameworks/R.framework/Resources/bin/R RepViz.buildbin-libdir StartedAt: 2025-02-05 00:57:22 -0500 (Wed, 05 Feb 2025) EndedAt: 2025-02-05 00:57:48 -0500 (Wed, 05 Feb 2025) EllapsedTime: 25.4 seconds RetCode: 0 Status: OK PackageFile: RepViz_1.23.0.tgz PackageFileSize: 314.2 KiB