Package: RepViz Version: 1.23.0 Command: /Library/Frameworks/R.framework/Resources/bin/R CMD build --keep-empty-dirs --no-resave-data RepViz StartedAt: 2025-02-04 18:01:28 -0500 (Tue, 04 Feb 2025) EndedAt: 2025-02-04 18:02:07 -0500 (Tue, 04 Feb 2025) EllapsedTime: 38.8 seconds RetCode: 0 Status: OK PackageFile: RepViz_1.23.0.tar.gz PackageFileSize: 273.7 KiB