Package: RepViz Version: 1.23.0 Command: /Library/Frameworks/R.framework/Resources/bin/R CMD check --install=check:RepViz.install-out.txt --library=/Library/Frameworks/R.framework/Resources/library --no-vignettes --timings RepViz_1.23.0.tar.gz StartedAt: 2025-02-04 22:45:01 -0500 (Tue, 04 Feb 2025) EndedAt: 2025-02-04 22:47:24 -0500 (Tue, 04 Feb 2025) EllapsedTime: 143.4 seconds RetCode: 0 Status: WARNINGS CheckDir: RepViz.Rcheck Warnings: 3