Package: RepViz Version: 1.23.0 Command: /home/biocbuild/bbs-3.21-bioc/R/bin/R CMD check --install=check:RepViz.install-out.txt --library=/home/biocbuild/bbs-3.21-bioc/R/site-library --timings RepViz_1.23.0.tar.gz StartedAt: 2025-02-05 01:57:37 -0500 (Wed, 05 Feb 2025) EndedAt: 2025-02-05 01:59:57 -0500 (Wed, 05 Feb 2025) EllapsedTime: 140.2 seconds RetCode: 0 Status: WARNINGS CheckDir: RepViz.Rcheck Warnings: 3