Package: RepViz Version: 1.23.0 Command: rm -rf RepViz.buildbin-libdir && mkdir RepViz.buildbin-libdir && E:\biocbuild\bbs-3.21-bioc\R\bin\R.exe CMD INSTALL --build --library=RepViz.buildbin-libdir RepViz_1.23.0.tar.gz StartedAt: 2025-02-10 08:32:01 -0500 (Mon, 10 Feb 2025) EndedAt: 2025-02-10 08:32:22 -0500 (Mon, 10 Feb 2025) EllapsedTime: 21.4 seconds RetCode: 0 Status: OK PackageFile: RepViz_1.23.0.zip PackageFileSize: 233.5 KiB