Package: RepViz Version: 1.23.0 Command: chmod a+r RepViz -R && E:\biocbuild\bbs-3.21-bioc\R\bin\R.exe CMD build --keep-empty-dirs --no-resave-data RepViz StartedAt: 2025-02-09 21:07:47 -0500 (Sun, 09 Feb 2025) EndedAt: 2025-02-09 21:08:27 -0500 (Sun, 09 Feb 2025) EllapsedTime: 40.0 seconds RetCode: 0 Status: OK PackageFile: RepViz_1.23.0.tar.gz PackageFileSize: 188.6 KiB