Package: RepViz Version: 1.23.0 Command: E:\biocbuild\bbs-3.21-bioc\R\bin\R.exe CMD INSTALL RepViz StartedAt: 2025-02-09 15:51:50 -0500 (Sun, 09 Feb 2025) EndedAt: 2025-02-09 15:52:13 -0500 (Sun, 09 Feb 2025) EllapsedTime: 22.9 seconds RetCode: 0 Status: OK