Package: Rfastp Version: 1.17.0 Command: rm -rf Rfastp.buildbin-libdir && mkdir Rfastp.buildbin-libdir && /Users/biocbuild/BBS/utils/build-universal.sh Rfastp_1.17.0.tar.gz /Library/Frameworks/R.framework/Resources/bin/R Rfastp.buildbin-libdir StartedAt: 2025-02-09 22:27:20 -0500 (Sun, 09 Feb 2025) EndedAt: 2025-02-09 22:27:47 -0500 (Sun, 09 Feb 2025) EllapsedTime: 26.5 seconds RetCode: 0 Status: OK PackageFile: Rfastp_1.17.0.tgz PackageFileSize: 2.802 MiB