Package: Rfastp Version: 1.17.0 Command: /home/biocbuild/bbs-3.21-bioc/R/bin/R CMD INSTALL Rfastp StartedAt: 2025-02-09 15:11:34 -0500 (Sun, 09 Feb 2025) EndedAt: 2025-02-09 15:12:48 -0500 (Sun, 09 Feb 2025) EllapsedTime: 74.1 seconds RetCode: 0 Status: OK