Package: Rfastp Version: 1.17.0 Command: chmod a+r Rfastp -R && E:\biocbuild\bbs-3.21-bioc\R\bin\R.exe CMD build --keep-empty-dirs --no-resave-data Rfastp StartedAt: 2025-02-12 21:15:47 -0500 (Wed, 12 Feb 2025) EndedAt: 2025-02-12 21:20:15 -0500 (Wed, 12 Feb 2025) EllapsedTime: 267.4 seconds RetCode: 0 Status: OK PackageFile: Rfastp_1.17.0.tar.gz PackageFileSize: 2.421 MiB