Package: Rfastp Version: 1.17.0 Command: E:\biocbuild\bbs-3.21-bioc\R\bin\R.exe CMD check --no-multiarch --install=check:Rfastp.install-out.txt --library=E:\biocbuild\bbs-3.21-bioc\R\library --no-vignettes --timings Rfastp_1.17.0.tar.gz StartedAt: 2025-02-10 04:39:43 -0500 (Mon, 10 Feb 2025) EndedAt: 2025-02-10 04:41:00 -0500 (Mon, 10 Feb 2025) EllapsedTime: 76.4 seconds RetCode: 0 Status: OK CheckDir: Rfastp.Rcheck Warnings: 0