Package: RgnTX Version: 1.9.0 Command: /Library/Frameworks/R.framework/Resources/bin/R CMD INSTALL RgnTX StartedAt: 2025-02-09 15:10:42 -0500 (Sun, 09 Feb 2025) EndedAt: 2025-02-09 15:10:58 -0500 (Sun, 09 Feb 2025) EllapsedTime: 16.0 seconds RetCode: 0 Status: OK