Package: Rgraphviz Version: 2.51.0 Command: rm -rf Rgraphviz.buildbin-libdir && mkdir Rgraphviz.buildbin-libdir && /Users/biocbuild/BBS/utils/build-universal.sh Rgraphviz_2.51.0.tar.gz /Library/Frameworks/R.framework/Resources/bin/R Rgraphviz.buildbin-libdir StartedAt: 2025-02-09 22:27:27 -0500 (Sun, 09 Feb 2025) EndedAt: 2025-02-09 22:28:59 -0500 (Sun, 09 Feb 2025) EllapsedTime: 91.7 seconds RetCode: 0 Status: OK PackageFile: Rgraphviz_2.51.0.tgz PackageFileSize: 1.686 MiB