Package: Rgraphviz Version: 2.51.0 Command: /home/biocbuild/R/R/bin/R CMD INSTALL Rgraphviz StartedAt: 2025-01-29 19:32:58 -0000 (Wed, 29 Jan 2025) EndedAt: 2025-01-29 19:35:05 -0000 (Wed, 29 Jan 2025) EllapsedTime: 126.9 seconds RetCode: 0 Status: OK