Package: Rgraphviz Version: 2.51.0 Command: rm -rf Rgraphviz.buildbin-libdir && mkdir Rgraphviz.buildbin-libdir && E:\biocbuild\bbs-3.21-bioc\R\bin\R.exe CMD INSTALL --build --library=Rgraphviz.buildbin-libdir Rgraphviz_2.51.0.tar.gz StartedAt: 2025-02-10 08:32:40 -0500 (Mon, 10 Feb 2025) EndedAt: 2025-02-10 08:46:36 -0500 (Mon, 10 Feb 2025) EllapsedTime: 836.6 seconds RetCode: 0 Status: OK PackageFile: Rgraphviz_2.51.0.zip PackageFileSize: 1.39 MiB