Package: Rgraphviz Version: 2.51.0 Command: chmod a+r Rgraphviz -R && E:\biocbuild\bbs-3.21-bioc\R\bin\R.exe CMD build --keep-empty-dirs --no-resave-data Rgraphviz StartedAt: 2025-02-09 21:09:59 -0500 (Sun, 09 Feb 2025) EndedAt: 2025-02-09 21:23:21 -0500 (Sun, 09 Feb 2025) EllapsedTime: 802.1 seconds RetCode: 0 Status: OK PackageFile: Rgraphviz_2.51.0.tar.gz PackageFileSize: 10.55 MiB